BEGIN:VCALENDAR
VERSION:2.0
PRODID:-//Oakstone Academy - ECPv6.15.20//NONSGML v1.0//EN
CALSCALE:GREGORIAN
METHOD:PUBLISH
X-WR-CALNAME:Oakstone Academy
X-ORIGINAL-URL:https://oakstoneacademy.org
X-WR-CALDESC:Events for Oakstone Academy
REFRESH-INTERVAL;VALUE=DURATION:PT1H
X-Robots-Tag:noindex
X-PUBLISHED-TTL:PT1H
BEGIN:VTIMEZONE
TZID:America/New_York
BEGIN:DAYLIGHT
TZOFFSETFROM:-0500
TZOFFSETTO:-0400
TZNAME:EDT
DTSTART:20220313T070000
END:DAYLIGHT
BEGIN:STANDARD
TZOFFSETFROM:-0400
TZOFFSETTO:-0500
TZNAME:EST
DTSTART:20221106T060000
END:STANDARD
BEGIN:DAYLIGHT
TZOFFSETFROM:-0500
TZOFFSETTO:-0400
TZNAME:EDT
DTSTART:20230312T070000
END:DAYLIGHT
BEGIN:STANDARD
TZOFFSETFROM:-0400
TZOFFSETTO:-0500
TZNAME:EST
DTSTART:20231105T060000
END:STANDARD
BEGIN:DAYLIGHT
TZOFFSETFROM:-0500
TZOFFSETTO:-0400
TZNAME:EDT
DTSTART:20240310T070000
END:DAYLIGHT
BEGIN:STANDARD
TZOFFSETFROM:-0400
TZOFFSETTO:-0500
TZNAME:EST
DTSTART:20241103T060000
END:STANDARD
BEGIN:DAYLIGHT
TZOFFSETFROM:-0500
TZOFFSETTO:-0400
TZNAME:EDT
DTSTART:20250309T070000
END:DAYLIGHT
BEGIN:STANDARD
TZOFFSETFROM:-0400
TZOFFSETTO:-0500
TZNAME:EST
DTSTART:20251102T060000
END:STANDARD
BEGIN:DAYLIGHT
TZOFFSETFROM:-0500
TZOFFSETTO:-0400
TZNAME:EDT
DTSTART:20260308T070000
END:DAYLIGHT
BEGIN:STANDARD
TZOFFSETFROM:-0400
TZOFFSETTO:-0500
TZNAME:EST
DTSTART:20261101T060000
END:STANDARD
BEGIN:DAYLIGHT
TZOFFSETFROM:-0500
TZOFFSETTO:-0400
TZNAME:EDT
DTSTART:20270314T070000
END:DAYLIGHT
BEGIN:STANDARD
TZOFFSETFROM:-0400
TZOFFSETTO:-0500
TZNAME:EST
DTSTART:20271107T060000
END:STANDARD
END:VTIMEZONE
BEGIN:VEVENT
DTSTART;TZID=America/New_York:20260126T173000
DTEND;TZID=America/New_York:20260126T190000
DTSTAMP:20260424T055355
CREATED:20251121T093202Z
LAST-MODIFIED:20260125T210041Z
UID:10000606-1769448600-1769454000@oakstoneacademy.org
SUMMARY:HS Basketball @ OSD (Away)
DESCRIPTION:
URL:https://oakstoneacademy.org/event/hs-basketball-osd-away-2/
LOCATION:Ohio School for the Deaf (500 Morse Rd\, Columbus\, OH 43214\, United States)
CATEGORIES:Athletics
END:VEVENT
BEGIN:VEVENT
DTSTART;TZID=America/New_York:20250915T173000
DTEND;TZID=America/New_York:20250915T190000
DTSTAMP:20260424T055355
CREATED:20250709T172406Z
LAST-MODIFIED:20250915T221713Z
UID:10000501-1757957400-1757962800@oakstoneacademy.org
SUMMARY:HS Soccer @ OSD (Away)
DESCRIPTION:
URL:https://oakstoneacademy.org/event/hs-soccer-osd-away/
LOCATION:Ohio School for the Deaf (500 Morse Rd\, Columbus\, OH 43214\, United States)
CATEGORIES:Athletics
END:VEVENT
BEGIN:VEVENT
DTSTART;TZID=America/New_York:20250909T170000
DTEND;TZID=America/New_York:20250909T183000
DTSTAMP:20260424T055355
CREATED:20250709T172404Z
LAST-MODIFIED:20250822T150317Z
UID:10000498-1757437200-1757442600@oakstoneacademy.org
SUMMARY:HS Volleyball @OSD (Away)
DESCRIPTION:
URL:https://oakstoneacademy.org/event/hs-volleyball-osd-away/
LOCATION:Ohio School for the Deaf (500 Morse Rd\, Columbus\, OH 43214\, United States)
CATEGORIES:Athletics
END:VEVENT
BEGIN:VEVENT
DTSTART;TZID=America/New_York:20230928T183000
DTEND;TZID=America/New_York:20230928T200000
DTSTAMP:20260424T055355
CREATED:20230606T173204Z
LAST-MODIFIED:20230928T234611Z
UID:10000119-1695925800-1695931200@oakstoneacademy.org
SUMMARY:HS Volleyball @ Ohio School for the Deaf
DESCRIPTION:
URL:https://oakstoneacademy.org/event/hs-volleyball-vs-ohio-school-for-the-deaf/
LOCATION:Ohio School for the Deaf (500 Morse Rd\, Columbus\, OH 43214\, United States)
CATEGORIES:Athletics
END:VEVENT
END:VCALENDAR