BEGIN:VCALENDAR
VERSION:2.0
PRODID:-//Oakstone Academy - ECPv6.15.20//NONSGML v1.0//EN
CALSCALE:GREGORIAN
METHOD:PUBLISH
X-WR-CALNAME:Oakstone Academy
X-ORIGINAL-URL:https://oakstoneacademy.org
X-WR-CALDESC:Events for Oakstone Academy
REFRESH-INTERVAL;VALUE=DURATION:PT1H
X-Robots-Tag:noindex
X-PUBLISHED-TTL:PT1H
BEGIN:VTIMEZONE
TZID:America/New_York
BEGIN:DAYLIGHT
TZOFFSETFROM:-0500
TZOFFSETTO:-0400
TZNAME:EDT
DTSTART:20230312T070000
END:DAYLIGHT
BEGIN:STANDARD
TZOFFSETFROM:-0400
TZOFFSETTO:-0500
TZNAME:EST
DTSTART:20231105T060000
END:STANDARD
BEGIN:DAYLIGHT
TZOFFSETFROM:-0500
TZOFFSETTO:-0400
TZNAME:EDT
DTSTART:20240310T070000
END:DAYLIGHT
BEGIN:STANDARD
TZOFFSETFROM:-0400
TZOFFSETTO:-0500
TZNAME:EST
DTSTART:20241103T060000
END:STANDARD
BEGIN:DAYLIGHT
TZOFFSETFROM:-0500
TZOFFSETTO:-0400
TZNAME:EDT
DTSTART:20250309T070000
END:DAYLIGHT
BEGIN:STANDARD
TZOFFSETFROM:-0400
TZOFFSETTO:-0500
TZNAME:EST
DTSTART:20251102T060000
END:STANDARD
BEGIN:DAYLIGHT
TZOFFSETFROM:-0500
TZOFFSETTO:-0400
TZNAME:EDT
DTSTART:20260308T070000
END:DAYLIGHT
BEGIN:STANDARD
TZOFFSETFROM:-0400
TZOFFSETTO:-0500
TZNAME:EST
DTSTART:20261101T060000
END:STANDARD
END:VTIMEZONE
BEGIN:VEVENT
DTSTART;TZID=America/New_York:20250210T180000
DTEND;TZID=America/New_York:20250210T193000
DTSTAMP:20260423T234651
CREATED:20240814T054900Z
LAST-MODIFIED:20250116T164030Z
UID:10000380-1739210400-1739215800@oakstoneacademy.org
SUMMARY:HS basketball @ High Street
DESCRIPTION:
URL:https://oakstoneacademy.org/event/hs-basketball-high-street/
LOCATION:High Street Baptist Church (7399 N High St\, Columbus\, OH  43235)
CATEGORIES:Athletics
END:VEVENT
BEGIN:VEVENT
DTSTART;TZID=America/New_York:20240910T173000
DTEND;TZID=America/New_York:20240910T190000
DTSTAMP:20260423T234651
CREATED:20240607T054617Z
LAST-MODIFIED:20240829T233256Z
UID:10000270-1725989400-1725994800@oakstoneacademy.org
SUMMARY:HS Volleyball @ High Street
DESCRIPTION:
URL:https://oakstoneacademy.org/event/hs-volleyball-high-street/
LOCATION:High Street Baptist Church (7399 N High St\, Columbus\, OH  43235)
CATEGORIES:Athletics
END:VEVENT
END:VCALENDAR