BEGIN:VCALENDAR
VERSION:2.0
PRODID:-//Oakstone Academy - ECPv6.15.20//NONSGML v1.0//EN
CALSCALE:GREGORIAN
METHOD:PUBLISH
X-WR-CALNAME:Oakstone Academy
X-ORIGINAL-URL:https://oakstoneacademy.org
X-WR-CALDESC:Events for Oakstone Academy
REFRESH-INTERVAL;VALUE=DURATION:PT1H
X-Robots-Tag:noindex
X-PUBLISHED-TTL:PT1H
BEGIN:VTIMEZONE
TZID:America/New_York
BEGIN:DAYLIGHT
TZOFFSETFROM:-0500
TZOFFSETTO:-0400
TZNAME:EDT
DTSTART:20230312T070000
END:DAYLIGHT
BEGIN:STANDARD
TZOFFSETFROM:-0400
TZOFFSETTO:-0500
TZNAME:EST
DTSTART:20231105T060000
END:STANDARD
BEGIN:DAYLIGHT
TZOFFSETFROM:-0500
TZOFFSETTO:-0400
TZNAME:EDT
DTSTART:20240310T070000
END:DAYLIGHT
BEGIN:STANDARD
TZOFFSETFROM:-0400
TZOFFSETTO:-0500
TZNAME:EST
DTSTART:20241103T060000
END:STANDARD
BEGIN:DAYLIGHT
TZOFFSETFROM:-0500
TZOFFSETTO:-0400
TZNAME:EDT
DTSTART:20250309T070000
END:DAYLIGHT
BEGIN:STANDARD
TZOFFSETFROM:-0400
TZOFFSETTO:-0500
TZNAME:EST
DTSTART:20251102T060000
END:STANDARD
END:VTIMEZONE
BEGIN:VEVENT
DTSTART;TZID=America/New_York:20240201T181500
DTEND;TZID=America/New_York:20240201T194500
DTSTAMP:20260421T122859
CREATED:20231108T215017Z
LAST-MODIFIED:20240202T003129Z
UID:10000214-1706811300-1706816700@oakstoneacademy.org
SUMMARY:HS Basketball vs. Columbus Torah Academy
DESCRIPTION:
URL:https://oakstoneacademy.org/event/hs-basketball-vs-columbus-torah-academy/
LOCATION:941 S State St (941 S State St\, Westerville\, Ohio  43081)
CATEGORIES:Athletics
END:VEVENT
BEGIN:VEVENT
DTSTART;VALUE=DATE:20240203
DTEND;VALUE=DATE:20240204
DTSTAMP:20260421T122859
CREATED:20231108T215019Z
LAST-MODIFIED:20240203T233107Z
UID:10000215-1706918400-1707004799@oakstoneacademy.org
SUMMARY:5/6 Opening Round Tourney
DESCRIPTION:
URL:https://oakstoneacademy.org/event/5-6-opening-round-tourney/
CATEGORIES:Athletics
END:VEVENT
BEGIN:VEVENT
DTSTART;TZID=America/New_York:20240208T181500
DTEND;TZID=America/New_York:20240208T194500
DTSTAMP:20260421T122859
CREATED:20231108T215022Z
LAST-MODIFIED:20240209T003106Z
UID:10000216-1707416100-1707421500@oakstoneacademy.org
SUMMARY:HS Basketball vs. Cornerstone
DESCRIPTION:
URL:https://oakstoneacademy.org/event/hs-basketball-vs-cornerstone-2/
LOCATION:941 S State St (941 S State St\, Westerville\, Ohio  43081)
CATEGORIES:Athletics
END:VEVENT
BEGIN:VEVENT
DTSTART;VALUE=DATE:20240210
DTEND;VALUE=DATE:20240211
DTSTAMP:20260421T122859
CREATED:20231108T215023Z
LAST-MODIFIED:20240210T234611Z
UID:10000217-1707523200-1707609599@oakstoneacademy.org
SUMMARY:5/6 Quarter Finals
DESCRIPTION:
URL:https://oakstoneacademy.org/event/5-6-quarter-finals/
CATEGORIES:Athletics
END:VEVENT
BEGIN:VEVENT
DTSTART;VALUE=DATE:20240212
DTEND;VALUE=DATE:20240213
DTSTAMP:20260421T122859
CREATED:20231108T215029Z
LAST-MODIFIED:20240212T233130Z
UID:10000219-1707696000-1707782399@oakstoneacademy.org
SUMMARY:5/6 Semi-Finals
DESCRIPTION:
URL:https://oakstoneacademy.org/event/5-6-semi-finals/
CATEGORIES:Athletics
END:VEVENT
BEGIN:VEVENT
DTSTART;TZID=America/New_York:20240212T173000
DTEND;TZID=America/New_York:20240212T190000
DTSTAMP:20260421T122859
CREATED:20231108T215026Z
LAST-MODIFIED:20240212T233131Z
UID:10000218-1707759000-1707764400@oakstoneacademy.org
SUMMARY:HS Basketball vs. Tree of Life (JV)
DESCRIPTION:
URL:https://oakstoneacademy.org/event/hs-basketball-vs-tree-of-life-jv/
LOCATION:941 S State St (941 S State St\, Westerville\, Ohio  43081)
CATEGORIES:Athletics
END:VEVENT
BEGIN:VEVENT
DTSTART;VALUE=DATE:20240215
DTEND;VALUE=DATE:20240216
DTSTAMP:20260421T122859
CREATED:20231108T215031Z
LAST-MODIFIED:20240215T234619Z
UID:10000220-1707955200-1708041599@oakstoneacademy.org
SUMMARY:5/6 Basketball Championship
DESCRIPTION:
URL:https://oakstoneacademy.org/event/5-6-basketball-championship/
CATEGORIES:Athletics
END:VEVENT
END:VCALENDAR